BEGIN:VCALENDAR
VERSION:2.0
PRODID:-//Aphid - ECPv6.15.9//NONSGML v1.0//EN
CALSCALE:GREGORIAN
METHOD:PUBLISH
X-WR-CALNAME:Aphid
X-ORIGINAL-URL:https://aphid.fr
X-WR-CALDESC:Évènements pour Aphid
REFRESH-INTERVAL;VALUE=DURATION:PT1H
X-Robots-Tag:noindex
X-PUBLISHED-TTL:PT1H
BEGIN:VTIMEZONE
TZID:Europe/Paris
BEGIN:DAYLIGHT
TZOFFSETFROM:+0100
TZOFFSETTO:+0200
TZNAME:CEST
DTSTART:20250330T010000
END:DAYLIGHT
BEGIN:STANDARD
TZOFFSETFROM:+0200
TZOFFSETTO:+0100
TZNAME:CET
DTSTART:20251026T010000
END:STANDARD
BEGIN:DAYLIGHT
TZOFFSETFROM:+0100
TZOFFSETTO:+0200
TZNAME:CEST
DTSTART:20260329T010000
END:DAYLIGHT
BEGIN:STANDARD
TZOFFSETFROM:+0200
TZOFFSETTO:+0100
TZNAME:CET
DTSTART:20261025T010000
END:STANDARD
BEGIN:DAYLIGHT
TZOFFSETFROM:+0100
TZOFFSETTO:+0200
TZNAME:CEST
DTSTART:20270328T010000
END:DAYLIGHT
BEGIN:STANDARD
TZOFFSETFROM:+0200
TZOFFSETTO:+0100
TZNAME:CET
DTSTART:20271031T010000
END:STANDARD
END:VTIMEZONE
BEGIN:VEVENT
DTSTART;TZID=Europe/Paris:20260427T180000
DTEND;TZID=Europe/Paris:20260427T180000
DTSTAMP:20260419T211559
CREATED:20260415T123818Z
LAST-MODIFIED:20260415T124737Z
UID:12741-1777312800-1777312800@aphid.fr
SUMMARY:Conférence - Denis Bouvier & Nicolas Félix-Faure - L'histoire de Groupe-6
DESCRIPTION:Conférence par Denis Bouvier\, président de Groupe-6 et Nicolas Félix-Faure\, architecte et ancien associé \nDepuis les années 70 où il fut fondé par 6 architectes grenoblois\, Groupe-6 s’est développé dans plusieurs secteurs d’activité : d’abord principalement la santé\, puis la culture\, l’université\, le tertiaire…\nEn 1995\, Groupe-6 livrait le Musée de Grenoble. Depuis plus d’une décennie\, Groupe-6\, qui fait partie des 10 plus grandes agences françaises\, est implantée à Grenoble où est son siège et à Paris\, intégrant toutes les compétences liées à l’acte de construire : urbanisme\, architecture\, paysage\, architecture intérieure\, économie de la construction\, maitrise d’œuvre d’exécution. \nEntrée gratuite pour les adhérents\, 3 € pour les non adhérents ; si possible\, inscription par mail à accueil@aphid.fr
URL:https://aphid.fr/event/conference-denis-bouvier-nicolas-felix-faure-lhistoire-de-groupe-6/
LOCATION:UDIMEC\, 19 Rue des Berges\,\, Grenoble\, 38000\, France
CATEGORIES:Conférence
ATTACH;FMTTYPE=image/jpeg:https://aphid.fr/wp-content/uploads/2026/04/Flyer-conf-APHID-Groupe-6-27-04-2026.jpg
END:VEVENT
END:VCALENDAR